BEGIN:VCALENDAR
VERSION:2.0
PRODID:-//Pfadfinder*innen Linz 8 - ECPv6.15.20//NONSGML v1.0//EN
CALSCALE:GREGORIAN
METHOD:PUBLISH
X-WR-CALNAME:Pfadfinder*innen Linz 8
X-ORIGINAL-URL:https://www.linz8.at
X-WR-CALDESC:Veranstaltungen für Pfadfinder*innen Linz 8
REFRESH-INTERVAL;VALUE=DURATION:PT1H
X-Robots-Tag:noindex
X-PUBLISHED-TTL:PT1H
BEGIN:VTIMEZONE
TZID:Europe/Vienna
BEGIN:DAYLIGHT
TZOFFSETFROM:+0100
TZOFFSETTO:+0200
TZNAME:CEST
DTSTART:20190331T010000
END:DAYLIGHT
BEGIN:STANDARD
TZOFFSETFROM:+0200
TZOFFSETTO:+0100
TZNAME:CET
DTSTART:20191027T010000
END:STANDARD
BEGIN:DAYLIGHT
TZOFFSETFROM:+0100
TZOFFSETTO:+0200
TZNAME:CEST
DTSTART:20200329T010000
END:DAYLIGHT
BEGIN:STANDARD
TZOFFSETFROM:+0200
TZOFFSETTO:+0100
TZNAME:CET
DTSTART:20201025T010000
END:STANDARD
BEGIN:DAYLIGHT
TZOFFSETFROM:+0100
TZOFFSETTO:+0200
TZNAME:CEST
DTSTART:20210328T010000
END:DAYLIGHT
BEGIN:STANDARD
TZOFFSETFROM:+0200
TZOFFSETTO:+0100
TZNAME:CET
DTSTART:20211031T010000
END:STANDARD
END:VTIMEZONE
BEGIN:VEVENT
DTSTART;TZID=Europe/Vienna:20200918T180000
DTEND;TZID=Europe/Vienna:20200918T200000
DTSTAMP:20260422T033049
CREATED:20200930T192233Z
LAST-MODIFIED:20200930T192233Z
UID:9530-1600452000-1600459200@www.linz8.at
SUMMARY:GuSp Heimstunde
DESCRIPTION:Teilnahme nur mit vorheriger Anmeldung
URL:https://www.linz8.at/termin/gusp-heimstunde-2
LOCATION:Heim Ziegelhub\, Ziegelhubweg 13\, Linz/Ebelsberg\, Oberösterreich\, 4030\, Österreich
CATEGORIES:GuSp Heimstunde
ORGANIZER;CN="Pfadfinder*innen Linz 8":MAILTO:pfadis@linz8.at
END:VEVENT
BEGIN:VEVENT
DTSTART;TZID=Europe/Vienna:20200918T180000
DTEND;TZID=Europe/Vienna:20200918T200000
DTSTAMP:20260422T033049
CREATED:20200930T192233Z
LAST-MODIFIED:20200930T192233Z
UID:9530-1600452000-1600459200@www.linz8.at
SUMMARY:GuSp Heimstunde
DESCRIPTION:Teilnahme nur mit vorheriger Anmeldung
URL:https://www.linz8.at/termin/gusp-heimstunde-2
LOCATION:Heim Ziegelhub\, Ziegelhubweg 13\, Linz/Ebelsberg\, Oberösterreich\, 4030\, Österreich
CATEGORIES:GuSp Heimstunde
ORGANIZER;CN="Pfadfinder*innen Linz 8":MAILTO:pfadis@linz8.at
END:VEVENT
BEGIN:VEVENT
DTSTART;TZID=Europe/Vienna:20200918T180000
DTEND;TZID=Europe/Vienna:20200918T200000
DTSTAMP:20260422T033049
CREATED:20200930T192233Z
LAST-MODIFIED:20200930T192233Z
UID:9530-1600452000-1600459200@www.linz8.at
SUMMARY:GuSp Heimstunde
DESCRIPTION:Teilnahme nur mit vorheriger Anmeldung
URL:https://www.linz8.at/termin/gusp-heimstunde-2
LOCATION:Heim Ziegelhub\, Ziegelhubweg 13\, Linz/Ebelsberg\, Oberösterreich\, 4030\, Österreich
CATEGORIES:GuSp Heimstunde
ORGANIZER;CN="Pfadfinder*innen Linz 8":MAILTO:pfadis@linz8.at
END:VEVENT
BEGIN:VEVENT
DTSTART;TZID=Europe/Vienna:20200918T180000
DTEND;TZID=Europe/Vienna:20200918T200000
DTSTAMP:20260422T033049
CREATED:20200930T192233Z
LAST-MODIFIED:20200930T192233Z
UID:9530-1600452000-1600459200@www.linz8.at
SUMMARY:GuSp Heimstunde
DESCRIPTION:Teilnahme nur mit vorheriger Anmeldung
URL:https://www.linz8.at/termin/gusp-heimstunde-2
LOCATION:Heim Ziegelhub\, Ziegelhubweg 13\, Linz/Ebelsberg\, Oberösterreich\, 4030\, Österreich
CATEGORIES:GuSp Heimstunde
ORGANIZER;CN="Pfadfinder*innen Linz 8":MAILTO:pfadis@linz8.at
END:VEVENT
BEGIN:VEVENT
DTSTART;TZID=Europe/Vienna:20200918T180000
DTEND;TZID=Europe/Vienna:20200918T200000
DTSTAMP:20260422T033049
CREATED:20200930T192233Z
LAST-MODIFIED:20200930T192233Z
UID:9530-1600452000-1600459200@www.linz8.at
SUMMARY:GuSp Heimstunde
DESCRIPTION:Teilnahme nur mit vorheriger Anmeldung
URL:https://www.linz8.at/termin/gusp-heimstunde-2
LOCATION:Heim Ziegelhub\, Ziegelhubweg 13\, Linz/Ebelsberg\, Oberösterreich\, 4030\, Österreich
CATEGORIES:GuSp Heimstunde
ORGANIZER;CN="Pfadfinder*innen Linz 8":MAILTO:pfadis@linz8.at
END:VEVENT
END:VCALENDAR