BEGIN:VCALENDAR
VERSION:2.0
PRODID:-//Pfadfinder*innen Linz 8 - ECPv6.15.20//NONSGML v1.0//EN
CALSCALE:GREGORIAN
METHOD:PUBLISH
X-ORIGINAL-URL:https://www.linz8.at
X-WR-CALDESC:Veranstaltungen für Pfadfinder*innen Linz 8
REFRESH-INTERVAL;VALUE=DURATION:PT1H
X-Robots-Tag:noindex
X-PUBLISHED-TTL:PT1H
BEGIN:VTIMEZONE
TZID:Europe/Vienna
BEGIN:DAYLIGHT
TZOFFSETFROM:+0100
TZOFFSETTO:+0200
TZNAME:CEST
DTSTART:20140330T010000
END:DAYLIGHT
BEGIN:STANDARD
TZOFFSETFROM:+0200
TZOFFSETTO:+0100
TZNAME:CET
DTSTART:20141026T010000
END:STANDARD
BEGIN:DAYLIGHT
TZOFFSETFROM:+0100
TZOFFSETTO:+0200
TZNAME:CEST
DTSTART:20150329T010000
END:DAYLIGHT
BEGIN:STANDARD
TZOFFSETFROM:+0200
TZOFFSETTO:+0100
TZNAME:CET
DTSTART:20151025T010000
END:STANDARD
BEGIN:DAYLIGHT
TZOFFSETFROM:+0100
TZOFFSETTO:+0200
TZNAME:CEST
DTSTART:20160327T010000
END:DAYLIGHT
BEGIN:STANDARD
TZOFFSETFROM:+0200
TZOFFSETTO:+0100
TZNAME:CET
DTSTART:20161030T010000
END:STANDARD
END:VTIMEZONE
BEGIN:VEVENT
DTSTART;TZID=Europe/Vienna:20150515T170000
DTEND;TZID=Europe/Vienna:20150515T183000
DTSTAMP:20260422T083003
CREATED:20150211T214802Z
LAST-MODIFIED:20150211T214802Z
UID:5374-1431709200-1431714600@www.linz8.at
SUMMARY:WiWö Heimstunde Ebelsberg-Ziegelhub
DESCRIPTION:
URL:https://www.linz8.at/termin/wiwoe-ziegelhub-heimstunde-2015-05-15
LOCATION:Heim Ziegelhub\, Ziegelhubweg 13\, Linz/Ebelsberg\, Oberösterreich\, 4030\, Österreich
CATEGORIES:Heim,WiWö Heimstunde
ORGANIZER;CN="Pfadfinder*innen Linz 8":MAILTO:pfadis@linz8.at
END:VEVENT
BEGIN:VEVENT
DTSTART;TZID=Europe/Vienna:20150515T180000
DTEND;TZID=Europe/Vienna:20150515T200000
DTSTAMP:20260422T083003
CREATED:20150211T220906Z
LAST-MODIFIED:20150211T220906Z
UID:5434-1431712800-1431720000@www.linz8.at
SUMMARY:GuSp Heimstunde Ebelsberg
DESCRIPTION:
URL:https://www.linz8.at/termin/gusp-heimstunde-ebelsberg-2015-05-15
LOCATION:Heim Ziegelhub\, Ziegelhubweg 13\, Linz/Ebelsberg\, Oberösterreich\, 4030\, Österreich
CATEGORIES:GuSp Heimstunde,Heim
ORGANIZER;CN="Pfadfinder*innen Linz 8":MAILTO:pfadis@linz8.at
END:VEVENT
BEGIN:VEVENT
DTSTART;TZID=Europe/Vienna:20150515T183000
DTEND;TZID=Europe/Vienna:20150515T200000
DTSTAMP:20260422T083003
CREATED:20150211T221004Z
LAST-MODIFIED:20150211T221004Z
UID:5454-1431714600-1431720000@www.linz8.at
SUMMARY:GuSp Heimstunde Pichling
DESCRIPTION:
URL:https://www.linz8.at/termin/gusp-heimstunde-pichling-2015-05-15
LOCATION:Pfarrheim Pichling\, Biberweg 30\, Linz/Pichling\, Oberösterreich\, 4030\, Österreich
CATEGORIES:GuSp Heimstunde
ORGANIZER;CN="Pfadfinder*innen Linz 8":MAILTO:pfadis@linz8.at
END:VEVENT
END:VCALENDAR